<VRTDataset rasterXSize="476295" rasterYSize="698346">
  <SRS>PROJCS["WGS_1984_Antarctic_Polar_Stereographic",GEOGCS["WGS 84",DATUM["WGS_1984",SPHEROID["WGS 84",6378137,298.257223563,AUTHORITY["EPSG","7030"]],AUTHORITY["EPSG","6326"]],PRIMEM["Greenwich",0],UNIT["degree",0.0174532925199433],AUTHORITY["EPSG","4326"]],PROJECTION["Polar_Stereographic"],PARAMETER["latitude_of_origin",-71],PARAMETER["central_meridian",0],PARAMETER["scale_factor",1],PARAMETER["false_easting",0],PARAMETER["false_northing",0],UNIT["metre",1,AUTHORITY["EPSG","9001"]],AUTHORITY["EPSG","3031"]]</SRS>
  <GeoTransform> -2.7429101475784183e+06,  1.5000000000000000e+01,  0.0000000000000000e+00,  5.6712434463235140e+06,  0.0000000000000000e+00, -1.5000000000000000e+01</GeoTransform>
  <VRTRasterBand dataType="Byte" band="1">
    <ColorInterp>Red</ColorInterp>
    <SimpleSource>
      <SourceFilename relativeToVRT="1">USGS_NASA_Landsat8_40d19mS_9d57mW.jp2</SourceFilename>
      <SourceBand>1</SourceBand>
      <SourceProperties RasterXSize="1256" RasterYSize="1028" DataType="Byte" BlockXSize="256" BlockYSize="256" />
      <SrcRect xOff="0" yOff="0" xSize="1256" ySize="1028" />
      <DstRect xOff="116029.682188885" yOff="0" xSize="1256" ySize="1028" />
    </SimpleSource>
    <SimpleSource>
      <SourceFilename relativeToVRT="1">USGS_NASA_Landsat8_46d10mS_50d24mE.jp2</SourceFilename>
      <SourceBand>1</SourceBand>
      <SourceProperties RasterXSize="3942" RasterYSize="3651" DataType="Byte" BlockXSize="256" BlockYSize="256" />
      <SrcRect xOff="0" yOff="0" xSize="3942" ySize="3651" />
      <DstRect xOff="437701.637548295" yOff="163784.486707888" xSize="3942" ySize="3651" />
    </SimpleSource>
    <SimpleSource>
      <SourceFilename relativeToVRT="1">USGS_NASA_Landsat8_46d25mS_51d59mE.jp2</SourceFilename>
      <SourceBand>1</SourceBand>
      <SourceProperties RasterXSize="3104" RasterYSize="4132" DataType="Byte" BlockXSize="256" BlockYSize="256" />
      <SrcRect xOff="0" yOff="0" xSize="3104" ySize="4132" />
      <DstRect xOff="442235.924583206" yOff="171982.583983793" xSize="3104" ySize="4132" />
    </SimpleSource>
    <SimpleSource>
      <SourceFilename relativeToVRT="1">USGS_NASA_Landsat8_46d49mS_37d49mE.jp2</SourceFilename>
      <SourceBand>1</SourceBand>
      <SourceProperties RasterXSize="4172" RasterYSize="2906" DataType="Byte" BlockXSize="256" BlockYSize="256" />
      <SrcRect xOff="0" yOff="0" xSize="4172" ySize="2906" />
      <DstRect xOff="381843.505789222" yOff="117624.984828007" xSize="4172" ySize="2906" />
    </SimpleSource>
    <SimpleSource>
      <SourceFilename relativeToVRT="1">USGS_NASA_Landsat8_47d45mS_179d2mE.jp2</SourceFilename>
      <SourceBand>1</SourceBand>
      <SourceProperties RasterXSize="633" RasterYSize="446" DataType="Byte" BlockXSize="256" BlockYSize="256" />
      <SrcRect xOff="0" yOff="0" xSize="633" ySize="446" />
      <DstRect xOff="187932.696865101" yOff="697899.614561715" xSize="633" ySize="446" />
    </SimpleSource>
    <SimpleSource>
      <SourceFilename relativeToVRT="1">USGS_NASA_Landsat8_48d2mS_166d34mE.jp2</SourceFilename>
      <SourceBand>1</SourceBand>
      <SourceProperties RasterXSize="975" RasterYSize="855" DataType="Byte" BlockXSize="256" BlockYSize="256" />
      <SrcRect xOff="0" yOff="0" xSize="975" ySize="855" />
      <DstRect xOff="256196.477317241" yOff="686713.080721829" xSize="975" ySize="855" />
    </SimpleSource>
    <SimpleSource>
      <SourceFilename relativeToVRT="1">USGS_NASA_Landsat8_49d26mS_69d20mE.jp2</SourceFilename>
      <SourceBand>1</SourceBand>
      <SourceProperties RasterXSize="13668" RasterYSize="12946" DataType="Byte" BlockXSize="256" BlockYSize="256" />
      <SrcRect xOff="0" yOff="0" xSize="13668" ySize="12946" />
      <DstRect xOff="462627.412236753" yOff="263555.146696097" xSize="13668" ySize="12946" />
    </SimpleSource>
    <SimpleSource>
      <SourceFilename relativeToVRT="1">USGS_NASA_Landsat8_49d41mS_178d46mE.jp2</SourceFilename>
      <SourceBand>1</SourceBand>
      <SourceProperties RasterXSize="831" RasterYSize="864" DataType="Byte" BlockXSize="256" BlockYSize="256" />
      <SrcRect xOff="0" yOff="0" xSize="831" ySize="864" />
      <DstRect xOff="188979.668052625" yOff="681845.761527576" xSize="831" ySize="864" />
    </SimpleSource>
    <SimpleSource>
      <SourceFilename relativeToVRT="1">USGS_NASA_Landsat8_50d42mS_166d7mE.jp2</SourceFilename>
      <SourceBand>1</SourceBand>
      <SourceProperties RasterXSize="2681" RasterYSize="4383" DataType="Byte" BlockXSize="256" BlockYSize="256" />
      <SrcRect xOff="0" yOff="0" xSize="2681" ySize="4383" />
      <DstRect xOff="252568.923712891" yOff="663181.43543495" xSize="2681" ySize="4383" />
    </SimpleSource>
    <SimpleSource>
      <SourceFilename relativeToVRT="1">USGS_NASA_Landsat8_52d32mS_169d8mE.jp2</SourceFilename>
      <SourceBand>1</SourceBand>
      <SourceProperties RasterXSize="1633" RasterYSize="1572" DataType="Byte" BlockXSize="256" BlockYSize="256" />
      <SrcRect xOff="0" yOff="0" xSize="1633" ySize="1572" />
      <DstRect xOff="235045.002972234" yOff="653312.523483098" xSize="1633" ySize="1572" />
    </SimpleSource>
    <SimpleSource>
      <SourceFilename relativeToVRT="1">USGS_NASA_Landsat8_53d2mS_72d36mE.jp2</SourceFilename>
      <SourceBand>1</SourceBand>
      <SourceProperties RasterXSize="504" RasterYSize="499" DataType="Byte" BlockXSize="256" BlockYSize="256" />
      <SrcRect xOff="0" yOff="0" xSize="504" ySize="499" />
      <DstRect xOff="446991.420763804" yOff="294958.497044191" xSize="504" ySize="499" />
    </SimpleSource>
    <SimpleSource>
      <SourceFilename relativeToVRT="1">USGS_NASA_Landsat8_53d36mS_41d54mW.jp2</SourceFilename>
      <SourceBand>1</SourceBand>
      <SourceProperties RasterXSize="1602" RasterYSize="543" DataType="Byte" BlockXSize="256" BlockYSize="256" />
      <SrcRect xOff="0" yOff="0" xSize="1602" ySize="543" />
      <DstRect xOff="0" yOff="174907.684325694" xSize="1602" ySize="543" />
    </SimpleSource>
    <SimpleSource>
      <SourceFilename relativeToVRT="1">USGS_NASA_Landsat8_53d3mS_73d34mE.jp2</SourceFilename>
      <SourceBand>1</SourceBand>
      <SourceProperties RasterXSize="2999" RasterYSize="3823" DataType="Byte" BlockXSize="256" BlockYSize="256" />
      <SrcRect xOff="0" yOff="0" xSize="2999" ySize="3823" />
      <DstRect xOff="446971.370668945" yOff="297817.185840219" xSize="2999" ySize="3823" />
    </SimpleSource>
    <SimpleSource>
      <SourceFilename relativeToVRT="1">USGS_NASA_Landsat8_54d18mS_36d53mW.jp2</SourceFilename>
      <SourceBand>1</SourceBand>
      <SourceProperties RasterXSize="14658" RasterYSize="5168" DataType="Byte" BlockXSize="256" BlockYSize="256" />
      <SrcRect xOff="0" yOff="0" xSize="14658" ySize="5168" />
      <DstRect xOff="15230.9635354072" yOff="162015.632892751" xSize="14658" ySize="5168" />
    </SimpleSource>
    <SimpleSource>
      <SourceFilename relativeToVRT="1">USGS_NASA_Landsat8_54d25mS_3d22mE.jp2</SourceFilename>
      <SourceBand>1</SourceBand>
      <SourceProperties RasterXSize="944" RasterYSize="769" DataType="Byte" BlockXSize="256" BlockYSize="256" />
      <SrcRect xOff="0" yOff="0" xSize="944" ySize="769" />
      <DstRect xOff="197975.49371502" yOff="112143.888139566" xSize="944" ySize="769" />
    </SimpleSource>
    <SimpleSource>
      <SourceFilename relativeToVRT="1">USGS_NASA_Landsat8_54d48mS_158d47mE.jp2</SourceFilename>
      <SourceBand>1</SourceBand>
      <SourceProperties RasterXSize="1596" RasterYSize="5622" DataType="Byte" BlockXSize="256" BlockYSize="256" />
      <SrcRect xOff="0" yOff="0" xSize="1596" ySize="5622" />
      <DstRect xOff="277262.406277966" yOff="620482.191503762" xSize="1596" ySize="5622" />
    </SimpleSource>
    <SimpleSource>
      <SourceFilename relativeToVRT="1">USGS_NASA_Landsat8_55d1mS_34d41mW.jp2</SourceFilename>
      <SourceBand>1</SourceBand>
      <SourceProperties RasterXSize="736" RasterYSize="771" DataType="Byte" BlockXSize="256" BlockYSize="256" />
      <SrcRect xOff="0" yOff="0" xSize="736" ySize="771" />
      <DstRect xOff="33872.1460893199" yOff="162886.623667496" xSize="736" ySize="771" />
    </SimpleSource>
    <SimpleSource>
      <SourceFilename relativeToVRT="1">USGS_NASA_Landsat8_56d18mS_27d35mW.jp2</SourceFilename>
      <SourceBand>1</SourceBand>
      <SourceProperties RasterXSize="554" RasterYSize="557" DataType="Byte" BlockXSize="256" BlockYSize="256" />
      <SrcRect xOff="0" yOff="0" xSize="554" ySize="557" />
      <DstRect xOff="66323.712967104" yOff="155214.054565633" xSize="554" ySize="557" />
    </SimpleSource>
    <SimpleSource>
      <SourceFilename relativeToVRT="1">USGS_NASA_Landsat8_56d40mS_28d6mW.jp2</SourceFilename>
      <SourceBand>1</SourceBand>
      <SourceProperties RasterXSize="328" RasterYSize="332" DataType="Byte" BlockXSize="256" BlockYSize="256" />
      <SrcRect xOff="0" yOff="0" xSize="328" ySize="332" />
      <DstRect xOff="65810.2823075401" yOff="158988.443209384" xSize="328" ySize="332" />
    </SimpleSource>
    <SimpleSource>
      <SourceFilename relativeToVRT="1">USGS_NASA_Landsat8_56d43mS_27d12mW.jp2</SourceFilename>
      <SourceBand>1</SourceBand>
      <SourceProperties RasterXSize="785" RasterYSize="697" DataType="Byte" BlockXSize="256" BlockYSize="256" />
      <SrcRect xOff="0" yOff="0" xSize="785" ySize="697" />
      <DstRect xOff="69176.6302568356" yOff="157269.644350239" xSize="785" ySize="697" />
    </SimpleSource>
    <SimpleSource>
      <SourceFilename relativeToVRT="1">USGS_NASA_Landsat8_57d48mS_26d28mW.jp2</SourceFilename>
      <SourceBand>1</SourceBand>
      <SourceProperties RasterXSize="901" RasterYSize="760" DataType="Byte" BlockXSize="256" BlockYSize="256" />
      <SrcRect xOff="0" yOff="0" xSize="901" ySize="760" />
      <DstRect xOff="75769.3235125969" yOff="163471.489123351" xSize="901" ySize="760" />
    </SimpleSource>
    <SimpleSource>
      <SourceFilename relativeToVRT="1">USGS_NASA_Landsat8_57d6mS_26d45mW.jp2</SourceFilename>
      <SourceBand>1</SourceBand>
      <SourceProperties RasterXSize="810" RasterYSize="815" DataType="Byte" BlockXSize="256" BlockYSize="256" />
      <SrcRect xOff="0" yOff="0" xSize="810" ySize="815" />
      <DstRect xOff="72268.2308516872" yOff="159083.576579609" xSize="810" ySize="815" />
    </SimpleSource>
    <SimpleSource>
      <SourceFilename relativeToVRT="1">USGS_NASA_Landsat8_58d27mS_26d21mW.jp2</SourceFilename>
      <SourceBand>1</SourceBand>
      <SourceProperties RasterXSize="1334" RasterYSize="1044" DataType="Byte" BlockXSize="256" BlockYSize="256" />
      <SrcRect xOff="0" yOff="0" xSize="1334" ySize="1044" />
      <DstRect xOff="78198.6295749168" yOff="167650.53136337" xSize="1334" ySize="1044" />
    </SimpleSource>
    <SimpleSource>
      <SourceFilename relativeToVRT="1">USGS_NASA_Landsat8_59d1mS_26d34mW.jp2</SourceFilename>
      <SourceBand>1</SourceBand>
      <SourceProperties RasterXSize="1289" RasterYSize="1048" DataType="Byte" BlockXSize="256" BlockYSize="256" />
      <SrcRect xOff="0" yOff="0" xSize="1289" ySize="1048" />
      <DstRect xOff="79381.8078723612" yOff="171979.47021987" xSize="1289" ySize="1048" />
    </SimpleSource>
    <SimpleSource>
      <SourceFilename relativeToVRT="1">USGS_NASA_Landsat8_59d26mS_27d15mW.jp2</SourceFilename>
      <SourceBand>1</SourceBand>
      <SourceProperties RasterXSize="1348" RasterYSize="1123" DataType="Byte" BlockXSize="256" BlockYSize="256" />
      <SrcRect xOff="0" yOff="0" xSize="1348" ySize="1123" />
      <DstRect xOff="78433.1200191095" yOff="176016.701270908" xSize="1348" ySize="1123" />
    </SimpleSource>
    <SimpleSource>
      <SourceFilename relativeToVRT="1">USGS_NASA_Landsat8_60d38mS_45d31mW.jp2</SourceFilename>
      <SourceBand>1</SourceBand>
      <SourceProperties RasterXSize="7805" RasterYSize="6604" DataType="Byte" BlockXSize="256" BlockYSize="256" />
      <SrcRect xOff="0" yOff="0" xSize="7805" ySize="6604" />
      <DstRect xOff="23887.9524720505" yOff="222503.733738087" xSize="7805" ySize="6604" />
    </SimpleSource>
    <SimpleSource>
      <SourceFilename relativeToVRT="1">USGS_NASA_Landsat8_61d29mS_55d44mW.jp2</SourceFilename>
      <SourceBand>1</SourceBand>
      <SourceProperties RasterXSize="1554" RasterYSize="1960" DataType="Byte" BlockXSize="256" BlockYSize="256" />
      <SrcRect xOff="0" yOff="0" xSize="1554" ySize="1960" />
      <DstRect xOff="7928.33107840295" yOff="258450.457989928" xSize="1554" ySize="1960" />
    </SimpleSource>
    <SimpleSource>
      <SourceFilename relativeToVRT="1">USGS_NASA_Landsat8_61d54mS_58d26mW.jp2</SourceFilename>
      <SourceBand>1</SourceBand>
      <SourceProperties RasterXSize="448" RasterYSize="804" DataType="Byte" BlockXSize="256" BlockYSize="256" />
      <SrcRect xOff="0" yOff="0" xSize="448" ySize="804" />
      <DstRect xOff="5815.76080000078" yOff="269068.387702599" xSize="448" ySize="804" />
    </SimpleSource>
    <SimpleSource>
      <SourceFilename relativeToVRT="1">USGS_NASA_Landsat8_61d57mS_57d37mW.jp2</SourceFilename>
      <SourceBand>1</SourceBand>
      <SourceProperties RasterXSize="506" RasterYSize="392" DataType="Byte" BlockXSize="256" BlockYSize="256" />
      <SrcRect xOff="0" yOff="0" xSize="506" ySize="392" />
      <DstRect xOff="7647.45752978971" yOff="266898.493222564" xSize="506" ySize="392" />
    </SimpleSource>
    <SimpleSource>
      <SourceFilename relativeToVRT="1">USGS_NASA_Landsat8_61d8mS_54d45mW.jp2</SourceFilename>
      <SourceBand>1</SourceBand>
      <SourceProperties RasterXSize="5746" RasterYSize="5226" DataType="Byte" BlockXSize="256" BlockYSize="256" />
      <SrcRect xOff="0" yOff="0" xSize="5746" ySize="5226" />
      <DstRect xOff="5706.76332262258" yOff="252305.695330958" xSize="5746" ySize="5226" />
    </SimpleSource>
    <SimpleSource>
      <SourceFilename relativeToVRT="1">USGS_NASA_Landsat8_62d16mS_58d32mW.jp2</SourceFilename>
      <SourceBand>1</SourceBand>
      <SourceProperties RasterXSize="422" RasterYSize="1069" DataType="Byte" BlockXSize="256" BlockYSize="256" />
      <SrcRect xOff="0" yOff="0" xSize="422" ySize="1069" />
      <DstRect xOff="7969.24997757226" yOff="270660.682091489" xSize="422" ySize="1069" />
    </SimpleSource>
    <SimpleSource>
      <SourceFilename relativeToVRT="1">USGS_NASA_Landsat8_62d19mS_59d45mW.jp2</SourceFilename>
      <SourceBand>1</SourceBand>
      <SourceProperties RasterXSize="340" RasterYSize="328" DataType="Byte" BlockXSize="256" BlockYSize="256" />
      <SrcRect xOff="0" yOff="0" xSize="340" ySize="328" />
      <DstRect xOff="6167.55137647664" yOff="274991.964722627" xSize="340" ySize="328" />
    </SimpleSource>
    <SimpleSource>
      <SourceFilename relativeToVRT="1">USGS_NASA_Landsat8_62d58mS_56d4mW.jp2</SourceFilename>
      <SourceBand>1</SourceBand>
      <SourceProperties RasterXSize="217" RasterYSize="205" DataType="Byte" BlockXSize="256" BlockYSize="256" />
      <SrcRect xOff="0" yOff="0" xSize="217" ySize="205" />
      <DstRect xOff="17325.3124851701" yOff="266684.280447338" xSize="217" ySize="205" />
    </SimpleSource>
    <SimpleSource>
      <SourceFilename relativeToVRT="1">USGS_NASA_Landsat8_62d59mS_56d43mW.jp2</SourceFilename>
      <SourceBand>1</SourceBand>
      <SourceProperties RasterXSize="771" RasterYSize="1566" DataType="Byte" BlockXSize="256" BlockYSize="256" />
      <SrcRect xOff="0" yOff="0" xSize="771" ySize="1566" />
      <DstRect xOff="15901.9679042287" yOff="267925.412381889" xSize="771" ySize="1566" />
    </SimpleSource>
    <SimpleSource>
      <SourceFilename relativeToVRT="1">USGS_NASA_Landsat8_62d5mS_57d54mW.jp2</SourceFilename>
      <SourceBand>1</SourceBand>
      <SourceProperties RasterXSize="561" RasterYSize="695" DataType="Byte" BlockXSize="256" BlockYSize="256" />
      <SrcRect xOff="0" yOff="0" xSize="561" ySize="695" />
      <DstRect xOff="7942.02755831952" yOff="268187.898581298" xSize="561" ySize="695" />
    </SimpleSource>
    <SimpleSource>
      <SourceFilename relativeToVRT="1">USGS_NASA_Landsat8_62d6mS_58d53mW.jp2</SourceFilename>
      <SourceBand>1</SourceBand>
      <SourceProperties RasterXSize="586" RasterYSize="741" DataType="Byte" BlockXSize="256" BlockYSize="256" />
      <SrcRect xOff="0" yOff="0" xSize="586" ySize="741" />
      <DstRect xOff="6126.65518405115" yOff="271224.044940877" xSize="586" ySize="741" />
    </SimpleSource>
    <SimpleSource>
      <SourceFilename relativeToVRT="1">USGS_NASA_Landsat8_63d12mS_57d26mW.jp2</SourceFilename>
      <SourceBand>1</SourceBand>
      <SourceProperties RasterXSize="531" RasterYSize="1120" DataType="Byte" BlockXSize="256" BlockYSize="256" />
      <SrcRect xOff="0" yOff="0" xSize="531" ySize="1120" />
      <DstRect xOff="16017.1911827815" yOff="271139.705654031" xSize="531" ySize="1120" />
    </SimpleSource>
    <SimpleSource>
      <SourceFilename relativeToVRT="1">USGS_NASA_Landsat8_63d1mS_55d46mW.jp2</SourceFilename>
      <SourceBand>1</SourceBand>
      <SourceProperties RasterXSize="372" RasterYSize="231" DataType="Byte" BlockXSize="256" BlockYSize="256" />
      <SrcRect xOff="0" yOff="0" xSize="372" ySize="231" />
      <DstRect xOff="18111.1767113085" yOff="265959.513268997" xSize="372" ySize="231" />
    </SimpleSource>
    <SimpleSource>
      <SourceFilename relativeToVRT="1">USGS_NASA_Landsat8_63d22mS_58d27mW.jp2</SourceFilename>
      <SourceBand>1</SourceBand>
      <SourceProperties RasterXSize="210" RasterYSize="199" DataType="Byte" BlockXSize="256" BlockYSize="256" />
      <SrcRect xOff="0" yOff="0" xSize="210" ySize="199" />
      <DstRect xOff="15475.5616739772" yOff="275268.905671198" xSize="210" ySize="199" />
    </SimpleSource>
    <SimpleSource>
      <SourceFilename relativeToVRT="1">USGS_NASA_Landsat8_63d24mS_54d47mW.jp2</SourceFilename>
      <SourceBand>1</SourceBand>
      <SourceProperties RasterXSize="1466" RasterYSize="1401" DataType="Byte" BlockXSize="256" BlockYSize="256" />
      <SrcRect xOff="0" yOff="0" xSize="1466" ySize="1401" />
      <DstRect xOff="21920.5781008077" yOff="264323.194297042" xSize="1466" ySize="1401" />
    </SimpleSource>
    <SimpleSource>
      <SourceFilename relativeToVRT="1">USGS_NASA_Landsat8_63d28mS_58d43mW.jp2</SourceFilename>
      <SourceBand>1</SourceBand>
      <SourceProperties RasterXSize="295" RasterYSize="291" DataType="Byte" BlockXSize="256" BlockYSize="256" />
      <SrcRect xOff="0" yOff="0" xSize="295" ySize="291" />
      <DstRect xOff="15558.4646159388" yOff="276381.921783347" xSize="295" ySize="291" />
    </SimpleSource>
    <SimpleSource>
      <SourceFilename relativeToVRT="1">USGS_NASA_Landsat8_63d29mS_59d48mW.jp2</SourceFilename>
      <SourceBand>1</SourceBand>
      <SourceProperties RasterXSize="302" RasterYSize="543" DataType="Byte" BlockXSize="256" BlockYSize="256" />
      <SrcRect xOff="0" yOff="0" xSize="302" ySize="543" />
      <DstRect xOff="13833.936257307" yOff="279501.673100609" xSize="302" ySize="543" />
    </SimpleSource>
    <SimpleSource>
      <SourceFilename relativeToVRT="1">USGS_NASA_Landsat8_63d30mS_55d40mW.jp2</SourceFilename>
      <SourceBand>1</SourceBand>
      <SourceProperties RasterXSize="459" RasterYSize="513" DataType="Byte" BlockXSize="256" BlockYSize="256" />
      <SrcRect xOff="0" yOff="0" xSize="459" ySize="513" />
      <DstRect xOff="21321.7418841042" yOff="267674.075300399" xSize="459" ySize="513" />
    </SimpleSource>
    <SimpleSource>
      <SourceFilename relativeToVRT="1">USGS_NASA_Landsat8_63d31mS_58d54mW.jp2</SourceFilename>
      <SourceBand>1</SourceBand>
      <SourceProperties RasterXSize="286" RasterYSize="626" DataType="Byte" BlockXSize="256" BlockYSize="256" />
      <SrcRect xOff="0" yOff="0" xSize="286" ySize="626" />
      <DstRect xOff="15634.6497017187" yOff="276972.212044318" xSize="286" ySize="626" />
    </SimpleSource>
    <SimpleSource>
      <SourceFilename relativeToVRT="1">USGS_NASA_Landsat8_63d43mS_60d14mW.jp2</SourceFilename>
      <SourceBand>1</SourceBand>
      <SourceProperties RasterXSize="536" RasterYSize="501" DataType="Byte" BlockXSize="256" BlockYSize="256" />
      <SrcRect xOff="0" yOff="0" xSize="536" ySize="501" />
      <DstRect xOff="14461.3877913343" yOff="281670.370116571" xSize="536" ySize="501" />
    </SimpleSource>
    <SimpleSource>
      <SourceFilename relativeToVRT="1">USGS_NASA_Landsat8_63d6mS_55d11mW.jp2</SourceFilename>
      <SourceBand>1</SourceBand>
      <SourceProperties RasterXSize="245" RasterYSize="231" DataType="Byte" BlockXSize="256" BlockYSize="256" />
      <SrcRect xOff="0" yOff="0" xSize="245" ySize="231" />
      <DstRect xOff="19853.066835656" yOff="264669.050326667" xSize="245" ySize="231" />
    </SimpleSource>
    <SimpleSource>
      <SourceFilename relativeToVRT="1">USGS_NASA_Landsat8_63d9mS_58d3mW.jp2</SourceFilename>
      <SourceBand>1</SourceBand>
      <SourceProperties RasterXSize="192" RasterYSize="198" DataType="Byte" BlockXSize="256" BlockYSize="256" />
      <SrcRect xOff="0" yOff="0" xSize="192" ySize="198" />
      <DstRect xOff="14748.9529560397" yOff="273169.022229279" xSize="192" ySize="198" />
    </SimpleSource>
    <SimpleSource>
      <SourceFilename relativeToVRT="1">USGS_NASA_Landsat8_64d39mS_64d15mW.jp2</SourceFilename>
      <SourceBand>1</SourceBand>
      <SourceProperties RasterXSize="2034" RasterYSize="2200" DataType="Byte" BlockXSize="256" BlockYSize="256" />
      <SrcRect xOff="0" yOff="0" xSize="2034" ySize="2200" />
      <DstRect xOff="13843.9040378751" yOff="295946.102083137" xSize="2034" ySize="2200" />
    </SimpleSource>
    <SimpleSource>
      <SourceFilename relativeToVRT="1">USGS_NASA_Landsat8_64d55mS_59d41mW.jp2</SourceFilename>
      <SourceBand>1</SourceBand>
      <SourceProperties RasterXSize="344" RasterYSize="337" DataType="Byte" BlockXSize="256" BlockYSize="256" />
      <SrcRect xOff="0" yOff="0" xSize="344" ySize="337" />
      <DstRect xOff="23434.0166015011" yOff="284790.662502339" xSize="344" ySize="337" />
    </SimpleSource>
    <SimpleSource>
      <SourceFilename relativeToVRT="1">USGS_NASA_Landsat8_64d57mS_65d43mW.jp2</SourceFilename>
      <SourceBand>1</SourceBand>
      <SourceProperties RasterXSize="521" RasterYSize="480" DataType="Byte" BlockXSize="256" BlockYSize="256" />
      <SrcRect xOff="0" yOff="0" xSize="521" ySize="480" />
      <DstRect xOff="14676.5952566102" yOff="302055.908123216" xSize="521" ySize="480" />
    </SimpleSource>
    <SimpleSource>
      <SourceFilename relativeToVRT="1">USGS_NASA_Landsat8_65d12mS_65d6mW.jp2</SourceFilename>
      <SourceBand>1</SourceBand>
      <SourceProperties RasterXSize="693" RasterYSize="1386" DataType="Byte" BlockXSize="256" BlockYSize="256" />
      <SrcRect xOff="0" yOff="0" xSize="693" ySize="1386" />
      <DstRect xOff="17128.8248368952" yOff="300629.289644473" xSize="693" ySize="1386" />
    </SimpleSource>
    <SimpleSource>
      <SourceFilename relativeToVRT="1">USGS_NASA_Landsat8_65d45mS_92d28mE.jp2</SourceFilename>
      <SourceBand>1</SourceBand>
      <SourceProperties RasterXSize="1265" RasterYSize="1670" DataType="Byte" BlockXSize="256" BlockYSize="256" />
      <SrcRect xOff="0" yOff="0" xSize="1265" ySize="1670" />
      <DstRect xOff="360269.148279101" yOff="384902.695833663" xSize="1265" ySize="1670" />
    </SimpleSource>
    <SimpleSource>
      <SourceFilename relativeToVRT="1">USGS_NASA_Landsat8_66d35mS_162d48mE.jp2</SourceFilename>
      <SourceBand>1</SourceBand>
      <SourceProperties RasterXSize="5999" RasterYSize="5465" DataType="Byte" BlockXSize="256" BlockYSize="256" />
      <SrcRect xOff="0" yOff="0" xSize="5999" ySize="5465" />
      <DstRect xOff="230693.177317894" yOff="539526.226864198" xSize="5999" ySize="5465" />
    </SimpleSource>
    <SimpleSource>
      <SourceFilename relativeToVRT="1">USGS_NASA_Landsat8_66d45mS_48d32mE.jp2</SourceFilename>
      <SourceBand>1</SourceBand>
