1.0000000000
0.0000000000
0.0000000000
-1.0000000000
998.0000000000
47002.0000000000
