1.0000000000
0.0000000000
0.0000000000
-1.0000000000
99998.0000000000
6002.0000000000
