1.0000000000
0.0000000000
0.0000000000
-1.0000000000
96998.0000000000
52002.0000000000
