1.0000000000
0.0000000000
0.0000000000
-1.0000000000
-35498.0000000000
43002.0000000000
