2.0000000000000000
0.0
0.0
-2.0000000000000000
99008.000000000000
51998.000000000000
